Workbook

Sheet خانه

Sheet مشخصات
B2: نام واحد فناور | S2: 1400 | T2: 0
B3: مدیر واحد فناور | S3: 1401 | T3: 1
B4: زمینه فعالیت | S4: 1402 | T4: 2
B5: ایده محوری | S5: 1403 | T5: 3
B6: تلفن | S6: 1404 | T6: 4
B7: پست الکترونیک | S7: 1405 | T7: 5
B8: وب سایت | S8: 1406 | T8: 6
B9: نسخه ویرایشی | C9: 1 | D9: 1400 | S9: 1407 | T9: 7
S10: 1408 | T10: 8
S11: 1409 | T11: 9
S12: 1410 | T12: 10
S13: 1411 | T13: 11
S14: 1412 | T14: 12
S15: 1413 | T15: 13
S16: 1414 | T16: 14
S17: 1415 | T17: 15
S18: 1416 | T18: 16
S19: 1417 | T19: 17
S20: 1418 | T20: 18
S21: 1419 | T21: 19
S22: 1420 | T22: 20

Sheet هزینه‌های ثابت
B2: زمین | C2: ردیف | D2: متراژ (مترمربع) | E2: هزینه واحد (میلیون ریال) | F2: هزینه کل (میلیون ریال)
C3: 1 | F3: =D3*E3 -> 0
B6: محوطه‌سازی | C6: ردیف | D6: شرح | E6: مقدار (مترمربع) | F6: هزینه واحد (میلیون ریال) | G6: هزینه کل (میلیون ریال)
C7: 1 | D7: تسطیح و خاکبرداری | G7: =E7*F7 -> 0
C8: 2 | D8: دیوار کشی | G8: =E8*F8 -> 0
C9: 3 | D9: خیابان کشی | G9: =E9*F9 -> 0
C10: 4 | D10: پارکینگ و فضای سبز | G10: =E10*F10 -> 0
C11: 5 | G11: =E11*F11 -> 0
C12: جمع کل (میلیون ریال) | G12: =SUM(G7:G11) -> 0
B15: ساختمان | C15: ردیف | D15: شرح | E15: زیربنا (مترمربع) | F15: هزینه واحد (میلیون ریال) | G15: هزینه کل (میلیون ریال)
C16: 1 | D16: نگهبانی | G16: =E16*F16 -> 0
C17: 2 | D17: رفاه | G17: =E17*F17 -> 0
C18: 3 | D18: تأسیسات | G18: =E18*F18 -> 0
C19: 4 | G19: =E19*F19 -> 0
C20: جمع کل (میلیون ریال) | G20: =SUM(G16:G19) -> 0
B22: تجهیزات عمومی | C22: ردیف | D22: شرح | E22: تعداد | F22: هزینه واحد (میلیون ریال) | G22: هزینه کل (میلیون ریال)
C23: 1 | G23: =F23*E23 -> 0
C24: 2 | G24: =F24*E24 -> 0
C25: 3 | G25: =F25*E25 -> 0
C26: 4 | G26: =F26*E26 -> 0
C27: 5 | G27: =F27*E27 -> 0
C28: 6 | G28: =F28*E28 -> 0
C29: 7 | G29: =F29*E29 -> 0
C30: جمع کل (میلیون ریال) | G30: =SUM(G23:G29) -> 0
B32: تجهیزات اختصاصی | C32: ردیف | D32: شرح | E32: تعداد | F32: هزینه واحد (میلیون ریال) | G32: هزینه کل (میلیون ریال)
C33: 1 | G33: =F33*E33 -> 0
C34: 2 | G34: =F34*E34 -> 0
C35: 3 | G35: =F35*E35 -> 0
C36: 4 | G36: =F36*E36 -> 0
C37: 5 | G37: =F37*E37 -> 0
C38: 6 | G38: =F38*E38 -> 0
C39: 7 | G39: =F39*E39 -> 0
C40: جمع کل (میلیون ریال) | G40: =SUM(G33:G39) -> 0
B42: تأسیسات | C42: ردیف | D42: شرح | E42: هزینه کل (میلیون ریال)
C43: 1 | D43: حق انشعاب آب و لوله کشی
C44: 2 | D44: کابل و تابلوهای برق
C45: 3 | D45: حق انشعاب برق 3 فاز و 5 فاز
C46: 4
C47: 5
C48: جمع کل (میلیون ریال) | E48: =SUM(E43:E47) -> 0
...

Sheet هزینه‌های جاری
B2: اقلام مصرفی و نهاده‌های تولید | C2: ردیف | D2: شرح | E2: مصرف سالانه | F2: هزینه واحد (میلیون ریال) | G2: هزینه کل (میلیون ریال)
C3: 1 | G3: =F3*E3 -> 0
C4: 2 | G4: =F4*E4 -> 0
C5: 3 | G5: =F5*E5 -> 0
C6: 4 | G6: =F6*E6 -> 0
C7: 5 | G7: =F7*E7 -> 0
C8: 6 | G8: =F8*E8 -> 0
C9: 7 | G9: =F9*E9 -> 0
C10: 8 | G10: =F10*E10 -> 0
C11: 9 | G11: =F11*E11 -> 0 | N11: خیر
C12: 10 | G12: =F12*E12 -> 0 | N12: بله
C13: جمع کل (میلیون ریال) | G13: =SUM(G3:G12) -> 0
B15: حقوق و دستمزد | C15: ردیف | D15: شرح | E15: تعداد – نفر | F15: حقوق ماهانه (میلیون ریال) | G15: هزینه 12 ماهه (میلیون ریال) | H15: هزینه کل (میلیون ریال) | I15: آیا تیم همکار شما بیمه شده هستند؟
C16: 1 | G16: =F16*E16*12 -> 0 | H16: =F16*E16*14 -> 0 | I16: بله
C17: 2 | G17: =F17*E17*12 -> 0 | H17: =F17*E17*14 -> 0
C18: 3 | G18: =F18*E18*12 -> 0 | H18: =F18*E18*14 -> 0
C19: 4 | G19: =F19*E19*12 -> 0 | H19: =F19*E19*14 -> 0
C20: 5 | G20: =F20*E20*12 -> 0 | H20: =F20*E20*14 -> 0
C21: 6 | G21: =F21*E21*12 -> 0 | H21: =F21*E21*14 -> 0
C22: 7 | G22: =F22*E22*12 -> 0 | H22: =F22*E22*14 -> 0
C23: 23٪ درصد سهم بیمه کارفرما | H23: =0.23*SUM(H16:H22) -> 0
C24: جمع کل (میلیون ریال) | G24: =IF(I16="بله",SUM(H16:H23),SUM(G16:G22)) -> 0
B26: هزینه نگهداری و تعمیرات | C26: ردیف | D26: شرح | E26: ارزش دارایی(میلیون ریال) | F26: نرخ | G26: هزینه کل (میلیون ریال)
C27: 1 | D27: ساختمان و محوطه سازی | E27: =SUM('هزینه‌های ثابت'!G20,'هزینه‌های ثابت'!G12) -> 0 | F27: 0.02 | G27: =F27*E27 -> 0
C28: 2 | D28: تأسیسات | E28: ='هزینه‌های ثابت'!E81 -> 0 | F28: 0.1 | G28: =F28*E28 -> 0
C29: 3 | D29: تجهیزات عمومی | E29: ='هزینه‌های ثابت'!E79 -> 0 | F29: 0.05 | G29: =F29*E29 -> 0
C30: 4 | D30: تجهیزات اختصاصی | E30: ='هزینه‌های ثابت'!E80 -> 0 | F30: 0.05 | G30: =F30*E30 -> 0
C31: 5 | D31: وسایل نقلیه | E31: ='هزینه‌های ثابت'!E82 -> 0 | F31: 0.1 | G31: =F31*E31 -> 0
C32: 6 | D32: تأسیسات اداری | E32: ='هزینه‌های ثابت'!E83 -> 0 | F32: 0.05 | G32: =F32*E32 -> 0
C33: جمع کل (میلیون ریال) | G33: =SUM(G27:G32) -> 0
B35: هزینه استهلاک | C35: ردیف | D35: شرح | E35: ارزش دارایی(میلیون ریال) | F35: نرخ | G35: هزینه کل (میلیون ریال)
C36: 1 | D36: ساختمان و محوطه سازی | E36: =E27 -> 0 | F36: 0.05 | G36: =F36*E36 -> 0
C37: 2 | D37: تأسیسات | E37: =E28 -> 0 | F37: 0.1 | G37: =F37*E37 -> 0
C38: 3 | D38: تجهیزات عمومی | E38: =E29 -> 0 | F38: 0.1 | G38: =F38*E38 -> 0
C39: 4 | D39: تجهیزات اختصاصی | E39: =E30 -> 0 | F39: 0.1 | G39: =F39*E39 -> 0
C40: 5 | D40: وسایل نقلیه | E40: =E31 -> 0 | F40: 0.1 | G40: =F40*E40 -> 0
C41: 6 | D41: تأسیسات اداری | E41: =E32 -> 0 | F41: 0.2 | G41: =F41*E41 -> 0
C42: جمع کل (میلیون ریال) | G42: =SUM(G36:G41) -> 0
B44: سوخت و انرژی | C44: ردیف | D44: شرح | E44: مصرف سالانه | F44: هزینه واحد (میلیون ریال) | G44: هزینه کل (میلیون ریال)
C45: 1 | D45: آب | G45: =F45*E45 -> 0
...

Sheet سرمایه‌گذاری طرح
B2: سرمایه در گردش | C2: ردیف | D2: شرح | E2: هزینه کل (میلیون ریال) | F2: مدت زمان (ماه) | G2: هزینه در دوره مورد بررسی
C3: 1 | D3: اقلام مصرفی و نهاده‌های تولید | E3: ='هزینه‌های جاری'!G13 -> 0 | G3: =E3*F3/12 -> 0
C4: 2 | D4: حقوق و دستمزد | E4: ='هزینه‌های جاری'!E58 -> 0 | G4: =E4*F4/12 -> 0
C5: 3 | D5: سوخت و انرژی | E5: ='هزینه‌های جاری'!E60 -> 0 | G5: =E5*F5/12 -> 0
C6: 4 | D6: استهلاک | E6: ='هزینه‌های جاری'!E62 -> 0 | G6: =E6*F6/12 -> 0
C7: 5 | D7: نگهداری و تعمیرات | E7: ='هزینه‌های جاری'!E59 -> 0 | G7: =E7*F7/12 -> 0
C8: جمع کل سرمایه‌ در گردش (میلیون ریال) | G8: =SUM(G3:G7) -> 0
B10: سرمایه‌گذاری طرح | C10: ردیف | D10: شرح | E10: هزینه کل (میلیون ریال)
C11: 1 | D11: سرمایه‌گذاری ثابت | E11: ='هزینه‌های ثابت'!E86 -> 0
C12: 2 | D12: سرمایه در گردش | E12: =G8 -> 0
C13: جمع کل سرمایه‌‌گذاری طرح | E13: =SUM(E11:E12) -> 0
B15: تأمین مالی طرح | C15: ردیف | D15: محل تأمین مالی | E15: درصد تأمین مالی | F15: میزان تأمین مالی
C16: 1 | D16: آورده شخصی | E16: 100 | F16: =E16*E13/100 -> 0
C17: 2 | D17: تسهیلات بانکی | E17: =100-E16 -> 0 | F17: =E17*E13/100 -> 0
C18: مجموع سرمایه‌گذاری طرح
B20: تسهیلات بانکی | C20: ردیف | D20: عنوان | E20: میزان
C21: 1 | D21: میزان تأمین مالی | E21: =F17 -> 0
C22: 2 | D22: مؤسسه تأمین‌کننده
C23: 3 | D23: نرخ بهره (سالانه)
C24: 4 | D24: میزان پرداختی هر قسط
C25: 5 | D25: دوره پرداخت هر قسط (ماه)
C26: 6 | D26: تعداد اقساط
C27: 7 | D27: سررسید تسهیلات

Sheet درآمد و میزان فروش
B2: ردیف | C2: شرح کالا/خدمات | D2: مقدار فروش | E2: ارزش واحد (میلیون ریال) | F2: ارزش کل (میلیون ریال)
B3: 1 | F3: =E3*D3 -> 0
B4: 2 | F4: =E4*D4 -> 0
B5: 3 | F5: =E5*D5 -> 0
B6: 4 | F6: =E6*D6 -> 0
B7: 5 | F7: =E7*D7 -> 0
B8: جمع کل (میلیون ریال) | F8: =SUM(F3:F7) -> 0

Sheet صورت سود و زیان
B2: ردیف | C2: عنوان | D2: ارزش کل (میلیون ریال)
B3: درآمد و میزان فروش:
B4: 1 | C4: درآمد | D4: ='درآمد و میزان فروش'!F8 -> 0
B5: هزینه‌های تولید و خدمات:
B6: 2 | C6: اقلام مصرفی و نهاده‌های تولید | D6: ='هزینه‌های جاری'!E57 -> 0
B7: 3 | C7: حقوق و دستمزد | D7: ='هزینه‌های جاری'!E58 -> 0
B8: 4 | C8: سوخت و انرژی | D8: ='هزینه‌های جاری'!E60 -> 0
B9: 5 | C9: بهای تمام شده کالا و خدمات فروش رفته (جمع مقادیر بالا) | D9: =SUM(D6:D8) -> 0
B10: 6 | C10: سود ناخالص | D10: =D4-D9 -> 0
B11: هزینه‌های عملیاتی:
B12: 7 | C12: هزینه های اداری،فروش | D12: =0.02*D4 -> 0
B13: 8 | C13: استهلاک | D13: ='هزینه‌های جاری'!E62 -> 0
B14: 9 | C14: نگهداری و تعمیرات | D14: ='هزینه‌های جاری'!E59 -> 0
B15: 10 | C15: مجموع هزینه‌های عملیاتی (جمع مقادیر بالا) | D15: =SUM(D12:D14) -> 0
B16: 11 | C16: سود عملیاتی | D16: =D10-D15 -> 0
B17: هزینه‌های مالی:
B18: 12 | C18: میزان تسهیلات بانکی در دوره مورد بررسی | D18: =IFERROR('سرمایه‌گذاری طرح'!E25*'سرمایه‌گذاری طرح'!E24,"بدون تسهیلات") -> 0
B19: 13 | C19: سود قبل از کسر مالیات | D19: =IFERROR(D16-D18,D16) -> 0
B20: 14 | C20: مالیات(25 درصد) | D20: =IF(D19>0,D19*E20/100,D19*E20/(-100)) -> 0 | E20: 25 | F20: درصد
B21: 15 | C21: سود خالص | D21: =D19-D20 -> 0

Sheet شاخص‌های سودآوری و عملکردی
B2: محاسبه نقطه سر به سر (در 100٪ تولید) | C2: شرح | D2: هزینه متغیر | F2: هزینه ثابت | H2: هزینه کل (میلیون ریال)
D3: مبلغ (میلیون ریال) | E3: درصد | F3: مبلغ (میلیون ریال) | G3: درصد
C4: اقلام مصرفی و نهاده‌های تولید | D4: =H4*E4/100 -> 0 | E4: 100 | F4: =G4*H4/100 -> 0 | G4: 0 | H4: ='هزینه‌های جاری'!E57 -> 0
C5: حقوق و دستمزد | D5: =H5*E5/100 -> 0 | E5: 30 | F5: =G5*H5/100 -> 0 | G5: 70 | H5: ='هزینه‌های جاری'!E58 -> 0
C6: سوخت و انرژی | D6: =H6*E6/100 -> 0 | E6: 80 | F6: =G6*H6/100 -> 0 | G6: 20 | H6: ='هزینه‌های جاری'!E60 -> 0
C7: هزینه استهلاک | D7: =H7*E7/100 -> 0 | E7: 0 | F7: =G7*H7/100 -> 0 | G7: 100 | H7: ='هزینه‌های جاری'!E62 -> 0
C8: هزینه تعمیر و نگهداری | D8: =H8*E8/100 -> 0 | E8: 80 | F8: =G8*H8/100 -> 0 | G8: 20 | H8: ='هزینه‌های جاری'!E59 -> 0
C9: هزینه های اداری و فروش | D9: =H9*E9/100 -> 0 | E9: 0 | F9: =G9*H9/100 -> 0 | G9: 100 | H9: ='صورت سود و زیان'!D12 -> 0
C10: پیش بینی نشده (هزینه های جاری) | D10: =H10*E10/100 -> 0 | E10: 65 | F10: =G10*H10/100 -> 0 | G10: 35 | H10: ='هزینه‌های جاری'!E61 -> 0
C11: بهره تسهیلات بانکی | D11: =H11*E11/100 -> 0 | E11: 0 | F11: =G11*H11/100 -> 0 | G11: 100 | H11: ='سرمایه‌گذاری طرح'!E24 -> 0
C12: جمع کل (میلیون ریال) | D12: =SUM(D4:D11) -> 0 | F12: =SUM(F4:F11) -> 0 | H12: =SUM(H4:H11) -> 0
D15: سود خالص | E15: نرخ بازگشت سرمایه | F15: دوره بازگشت سرمایه | G15: درصد فروش در نقطه سربه‌سر | H15: فروش در نقطه سربه‌سر
D16: ='صورت سود و زیان'!D21 -> 0 | E16: =IFERROR(D16/'سرمایه‌گذاری طرح'!E13,"") | F16: =IFERROR(1/E16,"") | G16: =IFERROR(F12/('درآمد و میزان فروش'!F8-D12),"") | H16: =IFERROR(G16*'درآمد و میزان فروش'!F8,"")
